BEGIN:VCALENDAR
VERSION:2.0
PRODID:-//Panoramic Hohegei&szlig; - ECPv6.3.2//NONSGML v1.0//EN
CALSCALE:GREGORIAN
METHOD:PUBLISH
X-WR-CALNAME:Panoramic Hohegei&szlig;
X-ORIGINAL-URL:https://www.panoramic-hohegeiss.com
X-WR-CALDESC:Veranstaltungen für Panoramic Hohegei&szlig;
REFRESH-INTERVAL;VALUE=DURATION:PT1H
X-Robots-Tag:noindex
X-PUBLISHED-TTL:PT1H
BEGIN:VTIMEZONE
TZID:Europe/Helsinki
BEGIN:DAYLIGHT
TZOFFSETFROM:+0200
TZOFFSETTO:+0300
TZNAME:EEST
DTSTART:20240331T010000
END:DAYLIGHT
BEGIN:STANDARD
TZOFFSETFROM:+0300
TZOFFSETTO:+0200
TZNAME:EET
DTSTART:20241027T010000
END:STANDARD
TZID:UTC
BEGIN:STANDARD
TZOFFSETFROM:+0000
TZOFFSETTO:+0000
TZNAME:UTC
DTSTART:20240101T000000
END:STANDARD
END:VTIMEZONE
BEGIN:VEVENT
DTSTART;TZID=Europe/Helsinki:20240810T170000
DTEND;TZID=Europe/Helsinki:20240810T233000
DTSTAMP:20260421T134900
CREATED:20240716T171729Z
LAST-MODIFIED:20240716T171729Z
UID:1933-1723309200-1723332600@www.panoramic-hohegeiss.com
SUMMARY:Sommernachtstraum Braunlage
DESCRIPTION:Taucht ein in eine magische Nacht voller Musik\, Licht und Unterhaltung im wunderschönen Kurpark von Braunlage. Am 10. August 2024 laden wir euch ein\, bei stimmungsvoller Atmosphäre und einem abwechslungsreichen Programm unvergessliche Momente zu erleben. \nWas Euch erwartet: \n\nLive Bands: Lasst euch von den Klängen von Soultyzer (Classic Soul & Jazz) und den Soulrockers (Pop\, Soul & Lounge-Covers) verzaubern\nBezauberndes Ambiente: Genießt die traumhafte Kulisse des Kurparks\, der in ein Meer aus Lichtern und Farben getaucht wird\nSpektakuläre Lasershow: Erlebt Axel Laser-Waterwall – eine visuelle Meisterleistung\nFaszinierende Walkacts: Lasst euch von außergewöhnlichen Künstlern unterhalten\n\nDetails: \n\nEinlass: 17:00 Uhr\nBeginn: 18:00 Uhr\nVorverkauf: 11 Euro\nAbendkasse: 13 Euro (Kinder ab 6 Jahre zahlen 5 Euro)
URL:https://www.panoramic-hohegeiss.com/event/sommernachtstraum-braunlage/
LOCATION:Kurpark Braunlage\, Dr.-Kurt-Schroeder-Promenade 3\, Braunlage\, 38700\, Deutschland
ATTACH;FMTTYPE=image/jpeg:https://www.panoramic-hohegeiss.com/wp-content/uploads/2024/07/csm_braunlage-2019-sommernachtstraum17_c_nordstadtlicht_5e1561f392.jpg
END:VEVENT
BEGIN:VEVENT
DTSTART;TZID=Europe/Helsinki:20240723T103000
DTEND;TZID=Europe/Helsinki:20240723T143000
DTSTAMP:20260421T134900
CREATED:20240716T172241Z
LAST-MODIFIED:20240716T172241Z
UID:1936-1721730600-1721745000@www.panoramic-hohegeiss.com
SUMMARY:Geführte Wanderung „Rund um Hohegeiß“
DESCRIPTION:Treffpunkt: Tourist-Info Hohegeiß\nGeführte Wanderung mit herrlichen Ausblicken über die Hohegeißer Berge und Höhenzüge. Vorbei an interessanten und historischen Punkten.\nDie genaue Streckenführung wird zum Beginn der Wanderung bekanntgegeben.\nStreckenlänge ca. 10 km\, 300 HM\, Dauer ca. 3\,5 Stunden.\nAnmeldung bis zum Vortag in der TI Hohegeiß unter 05583-241 wünschenswert.\nBei Vorlage der Gästekarte ist die Wanderung kostenfrei.\nEntsprechend der Wetter bzw. Schneelage wird in den Monaten Januar und Februar\, alternativ zur Wanderung\, auch Eisstockschießen angeboten. Erkundigen Sie sich diesbezüglich bitte vorher bei der Tourist Info Hohegeiß.
URL:https://www.panoramic-hohegeiss.com/event/gefuehrte-wanderung-rund-um-hohegeiss/
LOCATION:Tourist Information\, Kirchstraße 15a\, Hohegeiß\, 38700\, Deutschland
ATTACH;FMTTYPE=image/png:https://www.panoramic-hohegeiss.com/wp-content/uploads/2024/06/Wanderung-Hohegeiss.png
END:VEVENT
BEGIN:VEVENT
DTSTART;TZID=UTC:20240615T140000
DTEND;TZID=UTC:20240615T233000
DTSTAMP:20260421T134900
CREATED:20240218T082327Z
LAST-MODIFIED:20240218T085920Z
UID:1312-1718460000-1718494200@www.panoramic-hohegeiss.com
SUMMARY:Bergdorffest Hohegeiß
DESCRIPTION:Einheimische und Gäste können sich auf ein buntes Sommerprogramm im höchstgelegenen Bergdorf Hohegeiß freuen. Musikalische Live-Unterhaltungen mit Heimatsound und rockigen Tönen sorgen für Partystimmung. \nEine Hüpfburg\, bunte Ballonfiguren basteln oder Kinderschminken sorgen bei den kleinen Hohegeißer Gästen für Spaß am Nachmittag.
URL:https://www.panoramic-hohegeiss.com/event/bergdorffest-hohegeiss/
LOCATION:Kurpark Hohegeiß
ATTACH;FMTTYPE=image/jpeg:https://www.panoramic-hohegeiss.com/wp-content/uploads/2024/02/d57067f9606b4986b3483c6304940e4a.jpg
END:VEVENT
BEGIN:VEVENT
DTSTART;TZID=Europe/Helsinki:20240602T103000
DTEND;TZID=Europe/Helsinki:20240602T180000
DTSTAMP:20260421T134900
CREATED:20240529T173546Z
LAST-MODIFIED:20240529T173546Z
UID:1805-1717324200-1717351200@www.panoramic-hohegeiss.com
SUMMARY:Wiesenblütenhoffest auf dem Neigenfindthof
DESCRIPTION:Ab 10:30 Uhr: Wiesenblütenhoffest auf dem Neigenfindthof mit buntem Programm für die ganze Familie.\n10:30 Uhr: Traditioneller Kuhaustrieb durch die Stadt zum Neigenfindthof\, begleitet von einem Platzkonzert des WIM.\nAb 11:30 Uhr: Vorführungen der HarzSAR Rettungshundestaffel\, ökumenische Andacht\, Viehsegnung\, Melkwettbewerb und vieles mehr.\nMusikalische Unterhaltung durch den “Heimatbund Sankt Andreasberg”\, den “Waldarbeiter Instrumental Musikverein” und das “Trio Harzwald”.\n\n  \nKulinarische Genüsse und Kunsthandwerk: \nAuf dem Neigenfindthof erwarten die Besucher zahlreiche Stände mit regionalen Spezialitäten\, handgemachten Produkten und Kunsthandwerk. Für das leibliche Wohl sorgen herzhafte Grillspezialitäten\, hausgebackener Kuchen\, Butter- und Schmalzbrote. \nNaturerlebnis und Familienspaß: \nDas Wiesenblütenfest bietet eine wunderbare Gelegenheit\, die einzigartige Natur der Region zu erkunden und die bunte Vielfalt der Bergwiesen zu bewundern. Für Kinder gibt es eine Hüpfburg\, Kinderschminken und weitere spannende Aktivitäten. \nAnreise und weitere Informationen: \nEin Pendelverkehr zum Hoffest und zurück wird ab dem Parkplatz am Kurhaus und dem Parkplatz Hoher Weg angeboten. Die Ausstellung zur Wiesenblüte kann vom 1. bis zum 14. Juni im Kurhaus Sankt Andreasberg besichtigt werden.
URL:https://www.panoramic-hohegeiss.com/event/wiesenbluetenhoffest-auf-dem-neigenfindthof/
LOCATION:Bauer Neigenfindt\, Auf der Kuppe 3\, Sankt Andreasberg\, 37444
ATTACH;FMTTYPE=image/jpeg:https://www.panoramic-hohegeiss.com/wp-content/uploads/2024/05/plakat_a3_2024-jpg-scaled.jpg
END:VEVENT
BEGIN:VEVENT
DTSTART;TZID=UTC:20240601T120000
DTEND;TZID=UTC:20240601T233000
DTSTAMP:20260421T134900
CREATED:20240219T050143Z
LAST-MODIFIED:20240219T113652Z
UID:1329-1717243200-1717284600@www.panoramic-hohegeiss.com
SUMMARY:150 Jahre Feuer Hohegeiß - Tag der offenen Tür
DESCRIPTION:Speisen & Getränke\nSpaß für Kinder\nFahrzeugausstellung\nab 18:30 Uhr Cocktailbar\nab 20 Uhr DJ
URL:https://www.panoramic-hohegeiss.com/event/150-jahre-feuer-hohegeiss-tag-der-offenen-tuer/
LOCATION:Freiwillige Feuerwehr Hohegeiß\, Gerhart-Hauptmann-Straße 3\, Hohegeiß\, 38700\, Deutschland
ATTACH;FMTTYPE=image/png:https://www.panoramic-hohegeiss.com/wp-content/uploads/2024/02/Feuerwehr.png
END:VEVENT
BEGIN:VEVENT
DTSTART;TZID=UTC:20240430T170000
DTEND;TZID=UTC:20240430T233000
DTSTAMP:20260421T134900
CREATED:20240218T090556Z
LAST-MODIFIED:20240218T090556Z
UID:1325-1714496400-1714519800@www.panoramic-hohegeiss.com
SUMMARY:Walpurgis in Braunlage
DESCRIPTION:Walpurgisspektakel mit Live-Musik\, Walpurgis-Theaterspiele\, Feuershow\, Feuerwerk. \nAm 30. April verwandelt sich der Kurpark in Braunlage wieder in einen sprudelnden Hexenkessel. Düstere Gestalten sieht man schon im Laufe des Tages im OrtHexen und Teufel treiben auf den Straßen und Plätzen ihr Unwesen. Kinder und natürlich auch Erwachsene können an diesem Tag so richtig auf ihre Kosten kommen
URL:https://www.panoramic-hohegeiss.com/event/walpurgis-in-braunlage/
LOCATION:Kurpark Braunlage\, Dr.-Kurt-Schroeder-Promenade 3\, Braunlage\, 38700\, Deutschland
ATTACH;FMTTYPE=image/jpeg:https://www.panoramic-hohegeiss.com/wp-content/uploads/2024/02/walpurgis-braunlage.jpg
END:VEVENT
BEGIN:VEVENT
DTSTART;TZID=Europe/Helsinki:20240430T150000
DTEND;TZID=Europe/Helsinki:20240430T220000
DTSTAMP:20260421T134900
CREATED:20240406T164151Z
LAST-MODIFIED:20240406T164151Z
UID:1722-1714489200-1714514400@www.panoramic-hohegeiss.com
SUMMARY:KINDERWALPURGIS in Hohegeiß
DESCRIPTION:15:00 Uhr Kinderschminken mit den Erlebnistagen\, Waffeln und kalte Getränke in der Tourist-Info. Eine Märchenerzählerin erweckt Bilder der Märchen durchs freie Erzählen zum Leben.\n16:00 Uhr Live Musik mit dem Harzwaldecho\n17:00 Uhr Umzug mit der Oberhexe und dem Teufel durch den Ort zum Schützenplatz. Dort gibt es ein kleines Walpurgisspiel und anschließend wird beim Walpurgisfeuer gefeiert.
URL:https://www.panoramic-hohegeiss.com/event/kinderwalpurgis-in-hohegeiss/
LOCATION:Tourist Information\, Kirchstraße 15a\, Hohegeiß\, 38700\, Deutschland
ATTACH;FMTTYPE=image/png:https://www.panoramic-hohegeiss.com/wp-content/uploads/2024/04/Kinderwalpurgis-Hohegeiss.png
END:VEVENT
BEGIN:VEVENT
DTSTART;TZID=UTC:20240330T183000
DTEND;TZID=UTC:20240330T220000
DTSTAMP:20260421T134900
CREATED:20240302T143944Z
LAST-MODIFIED:20240302T143944Z
UID:1390-1711823400-1711836000@www.panoramic-hohegeiss.com
SUMMARY:Osterfeuer Hohegeiß 2024
DESCRIPTION:Der Harzklub Hohegeiß lädt euch herzlich zu unserem traditionellen Osterfeuer ein! \nAm Ostersamstag\, den 30. März\, soll gemeinsam die kalten Wintermonate verabschiedet und der Frühling willkommen geheißen werden. Am Schützenfestplatz erwartet euch ein gemütliches Beisammensein in geselliger Runde. \nFür das leibliche Wohl ist bestens gesorgt. Wir bieten euch leckere Getränke und Snacks an\, die ihr gegen eine kleine Spende erwerben könnt. Außerdem sorgt ein Musikprogramm für gute Stimmung und beste Unterhaltung.
URL:https://www.panoramic-hohegeiss.com/event/osterfeuer-hohegeiss-2024/
LOCATION:Schützenfestplatz Hohegeiß\, Hohegeiß\, 38700\, Deutschland
ATTACH;FMTTYPE=image/jpeg:https://www.panoramic-hohegeiss.com/wp-content/uploads/2024/03/FB_IMG_1709391437360.jpg
END:VEVENT
BEGIN:VEVENT
DTSTART;TZID=UTC:20240224T200000
DTEND;TZID=UTC:20240224T220000
DTSTAMP:20260421T134900
CREATED:20240218T082127Z
LAST-MODIFIED:20240218T084254Z
UID:1309-1708804800-1708812000@www.panoramic-hohegeiss.com
SUMMARY:Eisdisco
DESCRIPTION:Besuchen Sie jeden Mittwoch und Samstag die Eisdisco im Eisstadion Braunlage. \n\n\n\n„Cooler Beat und heißer Sound – mit einem Mix aus Charts\, Black-Music\, Partyhits und Rock“. \n\n\n\nLeihschlittschuhe ab Größe 23 bis 50 vorhanden.
URL:https://www.panoramic-hohegeiss.com/event/eisdisco/
LOCATION:Eisstadion Braunlage\, Harzburger Straße 28\, Braunlage\, 38700\, Deutschland
ATTACH;FMTTYPE=image/jpeg:https://www.panoramic-hohegeiss.com/wp-content/uploads/2024/02/Download-1.jpg
END:VEVENT
BEGIN:VEVENT
DTSTART;TZID=UTC:20240224T193000
DTEND;TZID=UTC:20240224T210000
DTSTAMP:20260421T134900
CREATED:20240218T085837Z
LAST-MODIFIED:20240218T085837Z
UID:1320-1708803000-1708808400@www.panoramic-hohegeiss.com
SUMMARY:Fackelwanderung Hohegeiß
DESCRIPTION:Eine ca. 2 km lange\, geführte Wanderung durch die angrenzenden Wälder.\nTreffpunkt: Tourist-Information Hohegeiß\, Kirchstr. 15A \nPro Fackel 3\,50€\, erhältlich vor Ort \nAnmeldung in der Tourist- Info Hohegeiß 05583/241 oder im Skicentrum Hohegeiß 05583/831 \nWanderung findet bei geeigneter Witterung statt. Bei stärkerem Wind werden eventuell Taschenlampen ausgegeben.
URL:https://www.panoramic-hohegeiss.com/event/fackelwanderung-hohegeiss/
LOCATION:Tourist Information\, Kirchstraße 15a\, Hohegeiß\, 38700\, Deutschland
ATTACH;FMTTYPE=image/jpeg:https://www.panoramic-hohegeiss.com/wp-content/uploads/2024/02/nsl_20201017_97186-jpg-scaled.jpg
END:VEVENT
END:VCALENDAR